BEGIN:VCALENDAR
VERSION:2.0
PRODID:-//Σύγχρονος Ελληνικός Πολιτισμός - ECPv6.15.0.1//NONSGML v1.0//EN
CALSCALE:GREGORIAN
METHOD:PUBLISH
X-ORIGINAL-URL:https://adoring-joliot.213-158-90-241.plesk.page
X-WR-CALDESC:Events for Σύγχρονος Ελληνικός Πολιτισμός
REFRESH-INTERVAL;VALUE=DURATION:PT1H
X-Robots-Tag:noindex
X-PUBLISHED-TTL:PT1H
BEGIN:VTIMEZONE
TZID:Europe/Athens
BEGIN:DAYLIGHT
TZOFFSETFROM:+0200
TZOFFSETTO:+0300
TZNAME:EEST
DTSTART:20260329T010000
END:DAYLIGHT
BEGIN:STANDARD
TZOFFSETFROM:+0300
TZOFFSETTO:+0200
TZNAME:EET
DTSTART:20261025T010000
END:STANDARD
END:VTIMEZONE
BEGIN:VEVENT
DTSTART;TZID=Europe/Athens:20260314T000000
DTEND;TZID=Europe/Athens:20260314T000000
DTSTAMP:20260421T183301
CREATED:20260306T081218Z
LAST-MODIFIED:20260306T081225Z
UID:10000121-1773446400-1773446400@adoring-joliot.213-158-90-241.plesk.page
SUMMARY:Francisco Goya\, Los Caprichos - Εθνική Πινακοθήκη
DESCRIPTION:Η σειρά των 80 χαρακτικών με τίτλο Los Caprichos\, η οποία ανήκει στις μόνιμες συλλογές της Εθνικής Πινακοθήκης\, αγοράστηκε μαζί με τις υπόλοιπες χαρακτικές σειρές του Francisco Goya το 1961 από τον τότε διευθυντή Μαρίνο Καλλιγά και είναι η πρώτη -η μια από τις δύο (μαζί με τις Ταυρομαχίες)- που εκτέθηκαν όσο ο καλλιτέχνης ήταν εν ζωή. \nΗ σειρά Los Caprichos\, που ο Francisco Goya δημοσιεύει στις αρχές του 1799\, αποτελεί ένα έργο-ορόσημο στην καλλιτεχνική του εξέλιξη\, καθώς για πρώτη φορά ο επίσημος ζωγράφος της Ισπανικής Αυλής αφήνεται να εκφράσει τον επαναστατικό χαρακτήρα μιας τέχνης ώριμης και απελευθερωμένης από τις δεσμεύσεις των δημόσιων παραγγελιών.  \nΔιαβάστε περισσότερα για την έκθεση εδώ.  \nΕπιμέλεια έκθεσης: Κατερίνα Ταβαντζή\, Ιστορικός Τέχνης\, Επιμελήτρια Χαρακτικής της ΕΠΜΑΣ \nΞενάγηση από την επιμελήτρια της έκθεσης: Σάββατο 6 Δεκεμβρίου στις 16:00Χώρος: Κεντρικό Κτήριο ΕΠΜΑΣ\, Σημείο συνάντησης: Σημείο συνάντησης: Είσοδος της έκθεσης ( -2 )Κρατήσεις: [email protected]Μέγιστος αριθμός συμμετεχόντων: 15 άτομαΘα τηρηθεί σειρά προτεραιότηταςΔιάρκεια: Ιανουάριος 2025 – Ιανουάριος 2026 \nΈργο: Porque fue sensibleΕπειδή ήταν ευαίσθητη / Because she was sensibleΑκουατίντα και στιλβωτής / Αquatint and burnisher21.5 × 15 cminv. no. 2575/32 \n©Εθνική Πινακοθήκη-Μουσείο Αλεξάνδρου Σούτσου (Φωτογραφικό Εργαστήριο\,Σταύρος Ψηρούκης) \n 
URL:https://adoring-joliot.213-158-90-241.plesk.page/event/francisco-goya-los-caprichos-%ce%b5%ce%b8%ce%bd%ce%b9%ce%ba%ce%ae-%cf%80%ce%b9%ce%bd%ce%b1%ce%ba%ce%bf%ce%b8%ce%ae%ce%ba%ce%b7/
LOCATION:Εθνική Πινακοθήκη
CATEGORIES:ΕΙΚΑΣΤΙΚΕΣ ΤΕΧΝΕΣ
ATTACH;FMTTYPE=image/jpeg:https://adoring-joliot.213-158-90-241.plesk.page/wp-content/uploads/2026/03/5420234810352482_Goya-1.jpg
END:VEVENT
BEGIN:VEVENT
DTSTART;TZID=Europe/Athens:20260124T120000
DTEND;TZID=Europe/Athens:20260124T130000
DTSTAMP:20260421T183301
CREATED:20260121T104129Z
LAST-MODIFIED:20260121T104138Z
UID:10000119-1769256000-1769259600@adoring-joliot.213-158-90-241.plesk.page
SUMMARY:Ξενάγηση με ταυτόχρονη διερμηνεία στην Ελληνική Νοηματική Γλώσσα: Παναγιώτης Τέτσης - Η εμμονή του βλέμματος
DESCRIPTION:Άποψη από την έκθεση Παναγιώτης Τέτσης – Η εμμονή του Βλέμματος\, Φωτογράφιση Σταύρος Ψηρούκης (Ε.Π.Μ.Α.Σ) \nΗ επίσκεψη στην Εθνική Πινακοθήκη είναι μια εμπειρία που αφορά όλους μας. Η ΕΠΜΑΣ έχοντας ως σημείο αναφοράς το πολιτιστικό και κοινωνικό αποτύπωμα του οργανισμού\, αλλά και την επικοινωνία με την κοινότητα\, συνεχίζει τα πρόγραμμα ταυτόχρονης διερμηνείας στην Ελληνική Νοηματική Γλώσσα με την ξενάγηση στην έκθεση «Παναγιώτης Τέτσης – Η εμμονή του βλέμματος» από την επιμελήτρια Έφη Αγαθονίκου\, την Τετάρτη 3 Δεκεμβρίου\, που είναι και η Παγκόσμια Ημέρα ΑμεΑ. Η ξενάγηση στη Νοηματική πραγματοποιείται με τη συνεργασία του Εθνικού Ιδρύματος Κωφών. \n \n\n\nΟ Π. Τέτσης\, ζωγράφος\, χαράκτης\, δάσκαλος\, ακαδημαϊκός\, ο οποίος είχε διατελέσει Πρόεδρος της Καλλιτεχνικής Επιτροπής και Πρόεδρος του Δ.Σ. της Εθνικής Πινακοθήκης\, υπήρξε από τους σπουδαιότερους καλλιτέχνες που με το έργο και τη διδασκαλία τους διαμόρφωσαν την Ελληνική μεταπολεμική ζωγραφική. \nΣτόχος της έκθεσης είναι όχι μόνο να παρουσιάσει την καλλιτεχνική πορεία του καλλιτέχνη αλλά και να εστιάσει στην ιδιαίτερη «ματιά» με την οποία\, δίνοντας έμφαση στο φως και το χρώμα\, πραγματεύεται τα θέματά του. \nΗ Λαϊκή αγορά και η Ύδρα αποτελούν μια εισαγωγή για τον επισκέπτη στον κόσμο του Π. Τέτση. Ακολουθεί  μια κατάδυση στο έργο του. Θεματικές ομάδες\, οι οποίες δεν χαρακτηρίζονται από μια χρονολογική συνέχεια\, διαδέχονται η μία την άλλη  προκειμένου να αποκαλύψουν στον θεατή το εικαστικό ιδίωμα του καλλιτέχνη\, τον τρόπο με τον οποίο παρατηρεί τον κόσμο γύρω του και τον μετουσιώνει σε έργο τέχνης\, πίνακα\, χαρακτικό\, υδατογραφία\, παστέλ. Καθώς όμως γνωρίζουμε τον ιδιαίτερο κόσμο του Π. Τέτση\, αντιλαμβανόμαστε ότι οι θεματικές ενότητες\, πολλές φορές\, συμπίπτουν και με χρονολογικές. Για μεγάλα χρονικά διαστήματα\, που διαρκούν και τέσσερα αν όχι περισσότερα χρόνια\, μελετάει\, σχεδόν εμμονικά\, ένα συγκεκριμένο θέμα. Δημιουργούνται «σειρές»\, «ενότητες»\, όπως οι ποδοσφαιριστές\, οι κήποι\, οι μπαλκονόπορτες\, οι καρέκλες\, τα ναυπηγεία\, τα τοπία της Σίφνου\, η λαϊκή αγορά\, τα τραπέζια\, τα τοπία της Ύδρας\, οι βάρκες\, οι θάλασσες\, τα πορτραίτα των φίλων\, οι νεκρές φύσεις\, τα πεύκα και τέλος τα βράχια της Ύδρας. Οι ζωγραφικές αυτές σειρές πλαισιώνονται και με άλλα μέσα\, όπως μελάνια\, χαρακτικά\, ακουαρέλες γιατί θεωρεί ότι πρόκειται για συγκοινωνούντα δοχεία και με τον τρόπο αυτό του δίνεται η  δυνατότητα να δει το αποτέλεσμα που θέλει να καταλήξει από πολλές οπτικές γωνίες. \n  \n \n\n\nΣτην έκθεση παρουσιάζονται 160 έργα\, τα περισσότερα πίνακες ζωγραφικής\, χαρακτικά\, ακουαρέλες\, παστέλ. Η πλειοψηφία των έργων προέρχεται από τη συλλογή της Εθνικής Πινακοθήκης\, στην οποία περιήλθαν έπειτα από δωρεές που πραγματοποίησε ο καλλιτέχνης μεταξύ των ετών 1997 και 2015\, ενώ 64 από τα εκτιθέμενα έργα ανήκουν σε ιδιωτικές ή θεσμικές συλλογές. Η επιλογή έχει σκοπό να προβάλλει είτε την «εμμονική» ματιά με την οποία παρατηρούσε το περιβάλλον του και το μετουσίωνε εικαστικά είτε να αποκαλύψει άγνωστες πτυχές της καλλιτεχνικής του παραγωγής και τεχνοτροπίας. \nΗ είσοδος για την Ξενάγηση είναι Δωρεάν και δεν απαιτείται κράτηση θέσης. \nΩστόσο\, η προεγγραφή μέσω της σχετικής φόρμας εξασφαλίζει τη θέση σας και μας βοηθά στην καλύτερη οργάνωση της Ξενάγησης. Οι επισκέπτες που δεν έχουν κάνει προεγγραφή μπορούν να προσέλθουν 30 λεπτά νωρίτερα για να προμηθευτούν εισιτήριο με μηδενικό αντίτιμο στην Έκδοση Εισιτηρίων. \nΟι θέσεις είναι περιορισμένες και θα τηρηθεί σειρά προτεραιότητας. \n  \nΤετάρτη 3 Δεκεμβρίου \nΏρα: 18:00Χώρος: Κεντρικό Κτήριο ΕΠΜΑΣ\, Λεωφ. Βασιλέως Κωνσταντίνου 50\, Αθήνα 11525 \nΣημείο συνάντησης: Είσοδος – Έκδοση Εισιτηρίων \nΕπιμέλεια: Έφη Αγαθονίκου\, Διευθύντρια Συλλογών\, Καλλιτεχνικού και Μουσειολογικού Προγραμματισμού της ΕΠΜΑΣΔιάρκεια έκθεσης: Απρίλιος 2025 – Ιανουάριος 2026
URL:https://adoring-joliot.213-158-90-241.plesk.page/event/%ce%be%ce%b5%ce%bd%ce%ac%ce%b3%ce%b7%cf%83%ce%b7-%ce%bc%ce%b5-%cf%84%ce%b1%cf%85%cf%84%cf%8c%cf%87%cf%81%ce%bf%ce%bd%ce%b7-%ce%b4%ce%b9%ce%b5%cf%81%ce%bc%ce%b7%ce%bd%ce%b5%ce%af%ce%b1-%cf%83%cf%84-2/
LOCATION:Εθνική Πινακοθήκη
CATEGORIES:ΕΙΚΑΣΤΙΚΕΣ ΤΕΧΝΕΣ
ATTACH;FMTTYPE=image/jpeg:https://adoring-joliot.213-158-90-241.plesk.page/wp-content/uploads/2026/01/5382297873183787_58669416ce0315bf5c27497c719e2bb6_M.jpg
END:VEVENT
END:VCALENDAR