BEGIN:VCALENDAR
VERSION:2.0
PRODID:-//Σύγχρονος Ελληνικός Πολιτισμός - ECPv6.15.0.1//NONSGML v1.0//EN
CALSCALE:GREGORIAN
METHOD:PUBLISH
X-ORIGINAL-URL:https://adoring-joliot.213-158-90-241.plesk.page
X-WR-CALDESC:Events for Σύγχρονος Ελληνικός Πολιτισμός
REFRESH-INTERVAL;VALUE=DURATION:PT1H
X-Robots-Tag:noindex
X-PUBLISHED-TTL:PT1H
BEGIN:VTIMEZONE
TZID:Europe/Athens
BEGIN:DAYLIGHT
TZOFFSETFROM:+0200
TZOFFSETTO:+0300
TZNAME:EEST
DTSTART:20260329T010000
END:DAYLIGHT
BEGIN:STANDARD
TZOFFSETFROM:+0300
TZOFFSETTO:+0200
TZNAME:EET
DTSTART:20261025T010000
END:STANDARD
END:VTIMEZONE
BEGIN:VEVENT
DTSTART;TZID=Europe/Athens:20260226T200000
DTEND;TZID=Europe/Athens:20260226T220000
DTSTAMP:20260422T014700
CREATED:20260219T085605Z
LAST-MODIFIED:20260219T085610Z
UID:10000120-1772136000-1772143200@adoring-joliot.213-158-90-241.plesk.page
SUMMARY:Λυσιστράτη - ΚΘΒΕ
DESCRIPTION:ΚΑΛΟΚΑΙΡΙ 2026ΦΕΣΤΙΒΑΛ ΑΘΗΝΩΝ ΕΠΙΔΑΥΡΟΥ 2026ΚΡΑΤΙΚΟ ΘΕΑΤΡΟ ΒΟΡΕΙΟΥ ΕΛΛΑΔΟΣ \nΛυσιστράτη του Αριστοφάνη \nΜετάφραση: Κωνσταντίνος ΜπούραςΣκηνοθεσία- Δραματουργική επεξεργασία: Αστέριος Πελτέκης \nΑρχαίο Θέατρο Επιδαύρου \nΠαρασκευή 21 & Σάββατο 22 Αυγούστου \nΗ Λυσιστράτη δεν αποτελεί απλώς μια κωμωδία για τον πόλεμο και τον έρωτα. Επιμένει να είναι ένα βαθύτατα πολιτικό\, ανθρωποκεντρικό έργο που εστιάζει στη στιγμή κατά την οποία μια κοινωνία\, εξαντλημένη από τη φθορά\, αναζητά επειγόντως έναν νέο τρόπο οργάνωσης.Το Κρατικό Θέατρο Βορείου Ελλάδος παρουσιάζει μια σύγχρονη σκηνική ανάγνωση της κωμωδίας του Αριστοφάνη\, που με όχημα το γέλιο\, μας απευθύνεται με γνήσια λυρική «κωμική» σοβαρότητα για την εντροπία στην οποία συχνά εκπίπτει μια κοινωνία.Η εντροπία –ως φυσικός αλλά και φιλοσοφικός όρος– δηλώνει τη σταδιακή αποσύνθεση της τάξης\, τη διάχυση της ενέργειας\, την αδυναμία ενός συστήματος να «αυτορρυθμιστεί».Στη Λυσιστράτη\, η πόλη-κράτος βρίσκεται σε παρατεταμένη φθορά: ο πόλεμος έχει καταστεί αυτοσκοπός\, η πολιτική έχει αποκοπεί από την ανθρώπινη εμπειρία και το σώμα έχει εξοριστεί από τον δημόσιο λόγο.Η αρχετυπική μορφή/ηρωίδα δεν προτείνει μια μεταρρύθμιση ούτε εισηγείται έναν νέο θεσμό. Η Λυσιστράτη εισάγει κάτι ριζικά διαφορετικό: την επανεμφάνιση του σώματος\, της επιθυμίας\, της φροντίδας και της συλλογικής ευθύνης ως πολιτικής πράξης. Η αποχή από τον έρωτα δεν λειτουργεί «τιμωρητικά» αλλά ως πράξη «αναστολής της εντροπίας». Ένα προσωρινό «πάγωμα» του συστήματος\, ώστε να καταστεί δυνατή η επανεκκίνησή του.Στον πυρήνα της σκηνοθετικής προσέγγισης του Αστέριου Πελτέκη βρίσκεται ακριβώς αυτή η χειρονομία\, η οποία δεν επιτυγχάνεται μέσα από τη βία ή την επιβολή\, αλλά μέσα από τη συνειδητή άρνηση συμμετοχής σε έναν φαύλο κύκλο. Οι γυναίκες δεν καταλαμβάνουν απλώς την Ακρόπολη\, «καταλαμβάνουν» τον χρόνο\, τη ροή των πραγμάτων\, την ίδια τη λογική της αναπόφευκτης καταστροφής. Η κωμωδία\, εδώ\, δεν λειτουργεί ως εκτόνωση\, αλλά ως μηχανισμός αποκάλυψης.Ο Αριστοφάνης μας υπενθυμίζει ότι κάθε κοινωνία που χάνει την επαφή με το «σώμα» και τη χαρά οδηγείται αναπόφευκτα στη βία\, και ότι η ανασύνταξη δεν ξεκινά από «επάνω»\, από την εξουσία\, αλλά από το συλλογικό ένστικτο επιβίωσης – από τη στιγμή που κάποιος άνθρωπος τολμά να πει: «ως εδώ».Στο Αρχαίο Θέατρο της Επιδαύρου\, εκεί όπου η κοινότητα συναντιέται εδώ και αιώνες για να αναμετρηθεί με τα όριά της\, η δική μας Λυσιστράτη φιλοδοξεί να επιστρέψει όχι ως μνημείο της αρχαίας δραματουργίας και ανάμνηση μιας έκφρασης του αρχαίου κόσμου\, αλλά ως ζωντανό πολιτικό γεγονός. Μια υπενθύμιση ότι\, ακόμη και μέσα στη μεγαλύτερη φθορά\, η επανεκκίνηση είναι δυνατή – αρκεί να τολμήσουμε να φανταστούμε αλλιώς την ύπαρξη και\, κυρίως\, τη συνύπαρξή μας. Σαν σε όνειρο… \n 
URL:https://adoring-joliot.213-158-90-241.plesk.page/event/%ce%bb%cf%85%cf%83%ce%b9%cf%83%cf%84%cf%81%ce%ac%cf%84%ce%b7-%ce%ba%ce%b8%ce%b2%ce%b5/
LOCATION:Αρχαίο Θέατρο Επιδαύρου
CATEGORIES:ΘΕΑΤΡΟ
ATTACH;FMTTYPE=image/jpeg:https://adoring-joliot.213-158-90-241.plesk.page/wp-content/uploads/2026/02/5407303949183438_NTNG-LYSISTRATH-SUMMER-2026.jpg
END:VEVENT
END:VCALENDAR